BEGIN:VCALENDAR
VERSION:2.0
PRODID:-//Sara Kühn - ECPv6.15.11//NONSGML v1.0//EN
CALSCALE:GREGORIAN
METHOD:PUBLISH
X-WR-CALNAME:Sara Kühn
X-ORIGINAL-URL:https://sara-kuehn.de
X-WR-CALDESC:Veranstaltungen für Sara Kühn
REFRESH-INTERVAL;VALUE=DURATION:PT1H
X-Robots-Tag:noindex
X-PUBLISHED-TTL:PT1H
BEGIN:VTIMEZONE
TZID:Europe/Berlin
BEGIN:DAYLIGHT
TZOFFSETFROM:+0100
TZOFFSETTO:+0200
TZNAME:CEST
DTSTART:20190331T010000
END:DAYLIGHT
BEGIN:STANDARD
TZOFFSETFROM:+0200
TZOFFSETTO:+0100
TZNAME:CET
DTSTART:20191027T010000
END:STANDARD
BEGIN:DAYLIGHT
TZOFFSETFROM:+0100
TZOFFSETTO:+0200
TZNAME:CEST
DTSTART:20200329T010000
END:DAYLIGHT
BEGIN:STANDARD
TZOFFSETFROM:+0200
TZOFFSETTO:+0100
TZNAME:CET
DTSTART:20201025T010000
END:STANDARD
BEGIN:DAYLIGHT
TZOFFSETFROM:+0100
TZOFFSETTO:+0200
TZNAME:CEST
DTSTART:20210328T010000
END:DAYLIGHT
BEGIN:STANDARD
TZOFFSETFROM:+0200
TZOFFSETTO:+0100
TZNAME:CET
DTSTART:20211031T010000
END:STANDARD
END:VTIMEZONE
BEGIN:VEVENT
DTSTART;TZID=Europe/Berlin:20200913T111500
DTEND;TZID=Europe/Berlin:20200913T121500
DTSTAMP:20260424T050309
CREATED:20200714T081528Z
LAST-MODIFIED:20200908T083618Z
UID:1569-1599995700-1599999300@sara-kuehn.de
SUMMARY:Konzert: L'incontro / The Meeting
DESCRIPTION:Werke von Georg Friedrich Händel und Mario Castelnuovo-Tedesco \nTrioduo: Giorgi Khutsishvili-Held – Querflöte\, Sara Kühn – Sopran\, Alexej Beljakov – Gitarre
URL:https://sara-kuehn.de/termin/konzert-lincontro-the-meeting-2/
LOCATION:Michaels-Kirche Blankenese\, Schenefelder Landstr. 36-38\, 22587 Hamburg
END:VEVENT
END:VCALENDAR