BEGIN:VCALENDAR
VERSION:2.0
PRODID:-//Sara Kühn - ECPv6.15.11//NONSGML v1.0//EN
CALSCALE:GREGORIAN
METHOD:PUBLISH
X-ORIGINAL-URL:https://sara-kuehn.de
X-WR-CALDESC:Veranstaltungen für Sara Kühn
REFRESH-INTERVAL;VALUE=DURATION:PT1H
X-Robots-Tag:noindex
X-PUBLISHED-TTL:PT1H
BEGIN:VTIMEZONE
TZID:Europe/Berlin
BEGIN:DAYLIGHT
TZOFFSETFROM:+0100
TZOFFSETTO:+0200
TZNAME:CEST
DTSTART:20170326T010000
END:DAYLIGHT
BEGIN:STANDARD
TZOFFSETFROM:+0200
TZOFFSETTO:+0100
TZNAME:CET
DTSTART:20171029T010000
END:STANDARD
BEGIN:DAYLIGHT
TZOFFSETFROM:+0100
TZOFFSETTO:+0200
TZNAME:CEST
DTSTART:20180325T010000
END:DAYLIGHT
BEGIN:STANDARD
TZOFFSETFROM:+0200
TZOFFSETTO:+0100
TZNAME:CET
DTSTART:20181028T010000
END:STANDARD
BEGIN:DAYLIGHT
TZOFFSETFROM:+0100
TZOFFSETTO:+0200
TZNAME:CEST
DTSTART:20190331T010000
END:DAYLIGHT
BEGIN:STANDARD
TZOFFSETFROM:+0200
TZOFFSETTO:+0100
TZNAME:CET
DTSTART:20191027T010000
END:STANDARD
END:VTIMEZONE
BEGIN:VEVENT
DTSTART;TZID=Europe/Berlin:20180922T200000
DTEND;TZID=Europe/Berlin:20180922T233000
DTSTAMP:20260425T152006
CREATED:20180510T110252Z
LAST-MODIFIED:20180510T110252Z
UID:990-1537646400-1537659000@sara-kuehn.de
SUMMARY:5. Meiendorf-Oldenfelder MusikNacht - MOM
DESCRIPTION:„Unter dem Thema: Himmels-Schlager / Kirchen-Schlager / Schlager-Nacht musizieren die Musikgruppen unserer Gemeinde zusammen mit Gesangs-Solisten und Chorsängern aus Kemnitz bei Greifswald. Eine Ausstellung von Arbeiten der Kreativgruppen unserer Gemeinde und der Kinder unserer vier Kindergärten\, sowie eine Foto-Strecke über die Herstellung der Arbeiten (Idee und Umsetzung: Mathias Bartoszewski) runden das Ereignis ab.“
URL:https://sara-kuehn.de/termin/5-meiendorf-oldenfelder-musiknacht-mom/
LOCATION:Dietrich-Bonhoeffer-Kirche\, Greifenberger Straße 56\, Hamburg-Oldenfelde\, 22147
END:VEVENT
END:VCALENDAR