BEGIN:VCALENDAR
VERSION:2.0
PRODID:-//Sara Kühn - ECPv6.15.11//NONSGML v1.0//EN
CALSCALE:GREGORIAN
METHOD:PUBLISH
X-WR-CALNAME:Sara Kühn
X-ORIGINAL-URL:https://sara-kuehn.de
X-WR-CALDESC:Veranstaltungen für Sara Kühn
REFRESH-INTERVAL;VALUE=DURATION:PT1H
X-Robots-Tag:noindex
X-PUBLISHED-TTL:PT1H
BEGIN:VTIMEZONE
TZID:Europe/Berlin
BEGIN:DAYLIGHT
TZOFFSETFROM:+0100
TZOFFSETTO:+0200
TZNAME:CEST
DTSTART:20170326T010000
END:DAYLIGHT
BEGIN:STANDARD
TZOFFSETFROM:+0200
TZOFFSETTO:+0100
TZNAME:CET
DTSTART:20171029T010000
END:STANDARD
BEGIN:DAYLIGHT
TZOFFSETFROM:+0100
TZOFFSETTO:+0200
TZNAME:CEST
DTSTART:20180325T010000
END:DAYLIGHT
BEGIN:STANDARD
TZOFFSETFROM:+0200
TZOFFSETTO:+0100
TZNAME:CET
DTSTART:20181028T010000
END:STANDARD
BEGIN:DAYLIGHT
TZOFFSETFROM:+0100
TZOFFSETTO:+0200
TZNAME:CEST
DTSTART:20190331T010000
END:DAYLIGHT
BEGIN:STANDARD
TZOFFSETFROM:+0200
TZOFFSETTO:+0100
TZNAME:CET
DTSTART:20191027T010000
END:STANDARD
END:VTIMEZONE
BEGIN:VEVENT
DTSTART;TZID=Europe/Berlin:20180701T170000
DTEND;TZID=Europe/Berlin:20180701T180000
DTSTAMP:20260425T180027
CREATED:20180406T093418Z
LAST-MODIFIED:20180613T104342Z
UID:974-1530464400-1530468000@sara-kuehn.de
SUMMARY:Konzert: Blütenschlag - Kultur bei Kerzenschein
DESCRIPTION:Blütenschlag zu Gast bei der Kulturreihe „Kultur bei Kerzenschein“ der Paul-Gerhardt-Gemeinde Winterhude. \n„Marlene lacht\, ein glücklicher Schmetterling hat Pech\, eine Grinsekatze ist verwirrt … Ein genreübergreifendes Projekt mit eigenen Liedern\, eigenen Texten\, eigenen Gedichten\, insgesamt eigen.“
URL:https://sara-kuehn.de/termin/konzert-bluetenschlag-kultur-bei-kerzenschein/
LOCATION:Paul-Gerhardt-Kirche Winterhude
END:VEVENT
BEGIN:VEVENT
DTSTART;TZID=Europe/Berlin:20180726T200000
DTEND;TZID=Europe/Berlin:20180726T213000
DTSTAMP:20260425T180027
CREATED:20180305T121641Z
LAST-MODIFIED:20180305T122209Z
UID:921-1532635200-1532640600@sara-kuehn.de
SUMMARY:Performance: Pata Divano
DESCRIPTION:Eine Tanzperformance mit Gesang und Projektionen …über unser Verhältnis zur Vergänglichkeit – ein Märchen vom Tod als ständiger Begleiter im Leben.  \nTickets: ab 11\,50 Euro (erm.) bis  33\,50 Euro\, Einlass 19:30 Uhr
URL:https://sara-kuehn.de/termin/performance-pata-divano-3/
LOCATION:Kulturhaus Steinfurth\, Dorfstr. 15\, Steinfurth\, Mecklenburg-Vorpommern\, 17495
END:VEVENT
BEGIN:VEVENT
DTSTART;TZID=Europe/Berlin:20180727T200000
DTEND;TZID=Europe/Berlin:20180727T213000
DTSTAMP:20260425T180027
CREATED:20180305T122503Z
LAST-MODIFIED:20180305T122503Z
UID:929-1532721600-1532727000@sara-kuehn.de
SUMMARY:Performance: Pata Divano
DESCRIPTION:Eine Tanzperformance mit Gesang und Projektionen …über unser Verhältnis zur Vergänglichkeit – ein Märchen vom Tod als ständiger Begleiter im Leben.  \nTickets: ab 11\,50 Euro (erm.) bis  33\,50 Euro\, Einlass 19:30 Uhr
URL:https://sara-kuehn.de/termin/performance-pata-divano-4/
LOCATION:Kulturhaus Steinfurth\, Dorfstr. 15\, Steinfurth\, Mecklenburg-Vorpommern\, 17495
END:VEVENT
BEGIN:VEVENT
DTSTART;TZID=Europe/Berlin:20180728T200000
DTEND;TZID=Europe/Berlin:20180728T213000
DTSTAMP:20260425T180027
CREATED:20180305T122845Z
LAST-MODIFIED:20180305T122845Z
UID:932-1532808000-1532813400@sara-kuehn.de
SUMMARY:Performance: Pata Divano
DESCRIPTION:Eine Tanzperformance mit Gesang und Projektionen …über unser Verhältnis zur Vergänglichkeit – ein Märchen vom Tod als ständiger Begleiter im Leben.  \nTickets: ab 11\,50 Euro (erm.) bis  33\,50 Euro\, Einlass 19:30 Uhr
URL:https://sara-kuehn.de/termin/performance-pata-divano-5/
LOCATION:Kulturhaus Steinfurth\, Dorfstr. 15\, Steinfurth\, Mecklenburg-Vorpommern\, 17495
END:VEVENT
END:VCALENDAR