BEGIN:VCALENDAR
VERSION:2.0
PRODID:-//Sara Kühn - ECPv6.15.11//NONSGML v1.0//EN
CALSCALE:GREGORIAN
METHOD:PUBLISH
X-WR-CALNAME:Sara Kühn
X-ORIGINAL-URL:https://sara-kuehn.de
X-WR-CALDESC:Veranstaltungen für Sara Kühn
REFRESH-INTERVAL;VALUE=DURATION:PT1H
X-Robots-Tag:noindex
X-PUBLISHED-TTL:PT1H
BEGIN:VTIMEZONE
TZID:Europe/Berlin
BEGIN:DAYLIGHT
TZOFFSETFROM:+0100
TZOFFSETTO:+0200
TZNAME:CEST
DTSTART:20170326T010000
END:DAYLIGHT
BEGIN:STANDARD
TZOFFSETFROM:+0200
TZOFFSETTO:+0100
TZNAME:CET
DTSTART:20171029T010000
END:STANDARD
BEGIN:DAYLIGHT
TZOFFSETFROM:+0100
TZOFFSETTO:+0200
TZNAME:CEST
DTSTART:20180325T010000
END:DAYLIGHT
BEGIN:STANDARD
TZOFFSETFROM:+0200
TZOFFSETTO:+0100
TZNAME:CET
DTSTART:20181028T010000
END:STANDARD
BEGIN:DAYLIGHT
TZOFFSETFROM:+0100
TZOFFSETTO:+0200
TZNAME:CEST
DTSTART:20190331T010000
END:DAYLIGHT
BEGIN:STANDARD
TZOFFSETFROM:+0200
TZOFFSETTO:+0100
TZNAME:CET
DTSTART:20191027T010000
END:STANDARD
END:VTIMEZONE
BEGIN:VEVENT
DTSTART;TZID=Europe/Berlin:20181125T111500
DTEND;TZID=Europe/Berlin:20181125T123000
DTSTAMP:20260425T133131
CREATED:20180613T105212Z
LAST-MODIFIED:20181022T081235Z
UID:1006-1543144500-1543149000@sara-kuehn.de
SUMMARY:Kammerkonzert
DESCRIPTION:Matinée-Konzert in der Michaels Kirche Blankenese. Werke von J. Dowland\, G.F. Händel\, Fanny Hensel\, Edward Grieg u.a.; mit Giorgi Khutsishvili-Held\, Querflöte\, Sara Kühn\, Sopran\, Alexej Beljakov\, Gitarre
URL:https://sara-kuehn.de/termin/kammerkonzert-2/
LOCATION:Michaels-Kirche Blankenese\, Schenefelder Landstr. 36-38\, 22587 Hamburg
END:VEVENT
END:VCALENDAR