BEGIN:VCALENDAR
VERSION:2.0
PRODID:-//Sara Kühn - ECPv6.15.11//NONSGML v1.0//EN
CALSCALE:GREGORIAN
METHOD:PUBLISH
X-WR-CALNAME:Sara Kühn
X-ORIGINAL-URL:https://sara-kuehn.de
X-WR-CALDESC:Veranstaltungen für Sara Kühn
REFRESH-INTERVAL;VALUE=DURATION:PT1H
X-Robots-Tag:noindex
X-PUBLISHED-TTL:PT1H
BEGIN:VTIMEZONE
TZID:Europe/Berlin
BEGIN:DAYLIGHT
TZOFFSETFROM:+0100
TZOFFSETTO:+0200
TZNAME:CEST
DTSTART:20170326T010000
END:DAYLIGHT
BEGIN:STANDARD
TZOFFSETFROM:+0200
TZOFFSETTO:+0100
TZNAME:CET
DTSTART:20171029T010000
END:STANDARD
BEGIN:DAYLIGHT
TZOFFSETFROM:+0100
TZOFFSETTO:+0200
TZNAME:CEST
DTSTART:20180325T010000
END:DAYLIGHT
BEGIN:STANDARD
TZOFFSETFROM:+0200
TZOFFSETTO:+0100
TZNAME:CET
DTSTART:20181028T010000
END:STANDARD
BEGIN:DAYLIGHT
TZOFFSETFROM:+0100
TZOFFSETTO:+0200
TZNAME:CEST
DTSTART:20190331T010000
END:DAYLIGHT
BEGIN:STANDARD
TZOFFSETFROM:+0200
TZOFFSETTO:+0100
TZNAME:CET
DTSTART:20191027T010000
END:STANDARD
END:VTIMEZONE
BEGIN:VEVENT
DTSTART;TZID=Europe/Berlin:20181117T130000
DTEND;TZID=Europe/Berlin:20181117T180000
DTSTAMP:20260425T133058
CREATED:20181023T194813Z
LAST-MODIFIED:20181023T194813Z
UID:1063-1542459600-1542477600@sara-kuehn.de
SUMMARY:VHS-Workshop: Talentfreies Singen
DESCRIPTION:Sie glauben\, dass Sie kein Talent zum Singen haben. Oder vielleicht doch? Jedenfalls haben Sie Lust\, es einmal zu probieren und zu testen\, wie es mit Ihrem Gesangstalent ausschaut. Dies können Sie und Gleichgesinnte mit einem gemischten Gesangsrepertoire\, etwas Mut und viel Spaß ausprobieren. \nAnmeldung über die VHS Hamburg: Kursnummer 0677MMW10 \n 
URL:https://sara-kuehn.de/termin/vhs-workshop-talentfreies-singen/
LOCATION:Bildungszentrum Tor zur Welt\, Krieterstraße 2 D\, Hamburg\, 21109\, Deutschland
END:VEVENT
END:VCALENDAR