BEGIN:VCALENDAR
VERSION:2.0
PRODID:-//Sara Kühn - ECPv6.15.11//NONSGML v1.0//EN
CALSCALE:GREGORIAN
METHOD:PUBLISH
X-ORIGINAL-URL:https://sara-kuehn.de
X-WR-CALDESC:Veranstaltungen für Sara Kühn
REFRESH-INTERVAL;VALUE=DURATION:PT1H
X-Robots-Tag:noindex
X-PUBLISHED-TTL:PT1H
BEGIN:VTIMEZONE
TZID:Europe/Berlin
BEGIN:DAYLIGHT
TZOFFSETFROM:+0100
TZOFFSETTO:+0200
TZNAME:CEST
DTSTART:20170326T010000
END:DAYLIGHT
BEGIN:STANDARD
TZOFFSETFROM:+0200
TZOFFSETTO:+0100
TZNAME:CET
DTSTART:20171029T010000
END:STANDARD
BEGIN:DAYLIGHT
TZOFFSETFROM:+0100
TZOFFSETTO:+0200
TZNAME:CEST
DTSTART:20180325T010000
END:DAYLIGHT
BEGIN:STANDARD
TZOFFSETFROM:+0200
TZOFFSETTO:+0100
TZNAME:CET
DTSTART:20181028T010000
END:STANDARD
BEGIN:DAYLIGHT
TZOFFSETFROM:+0100
TZOFFSETTO:+0200
TZNAME:CEST
DTSTART:20190331T010000
END:DAYLIGHT
BEGIN:STANDARD
TZOFFSETFROM:+0200
TZOFFSETTO:+0100
TZNAME:CET
DTSTART:20191027T010000
END:STANDARD
END:VTIMEZONE
BEGIN:VEVENT
DTSTART;TZID=Europe/Berlin:20180804T200000
DTEND;TZID=Europe/Berlin:20180805T213000
DTSTAMP:20260425T180213
CREATED:20180305T123119Z
LAST-MODIFIED:20180305T123119Z
UID:934-1533412800-1533504600@sara-kuehn.de
SUMMARY:Performance: Pata Divano
DESCRIPTION:Eine Tanzperformance mit Gesang und Projektionen …über unser Verhältnis zur Vergänglichkeit – ein Märchen vom Tod als ständiger Begleiter im Leben.  \nTickets: ab 11\,50 Euro (erm.) bis  33\,50 Euro\, Einlass 19:30 Uhr
URL:https://sara-kuehn.de/termin/performance-pata-divano-6/
END:VEVENT
END:VCALENDAR